BEGIN:VCALENDAR
VERSION:2.0
PRODID:-//eventon.com NONSGML v1.0//EN
CALSCALE:GREGORIAN
METHOD:PUBLISH
BEGIN:VEVENT
UID:69ed47178c3ed
DTSTAMP:20260425T225831Z
DTSTART:20260428T180000Z
DTEND:20260429T035900Z
LOCATION:Maison de la culture NDG (Botrel) 3755 Botrel 514-872-2157
SUMMARY:Kate Wyatt Trio avec Adrian Vedady et Louis-Vincent Hamel
DESCRIPTION:Kate Wyatt Trio avec Adrian Vedady et Louis-Vincent Hamel\nhttp
 s://sortiesjazznights.com/events/kate-wyatt-trio-avec-adrian-vedady-et-loui
 s-vincent-hamel/
URL:https://sortiesjazznights.com/events/kate-wyatt-trio-avec-adrian-vedady-et-louis-vincent-hamel/
END:VEVENT
END:VCALENDAR