BEGIN:VCALENDAR
VERSION:2.0
PRODID:-//eventon.com NONSGML v1.0//EN
CALSCALE:GREGORIAN
METHOD:PUBLISH
BEGIN:VEVENT
UID:69ed47122592b
DTSTAMP:20260425T225826Z
DTSTART:20260425T193000Z
DTEND:20260425T235900Z
LOCATION:BBAM! Gallery 808 Atwater 514-952-6190
SUMMARY:Ralph Alphonso Steven Lee Rachel Camila En Blanco - beatnik jazz !
DESCRIPTION:Ralph Alphonso Steven Lee Rachel Camila En Blanco - beatnik jaz
 z !\nhttps://sortiesjazznights.com/events/ralph-alphonso-steven-lee-rachel-
 camila-en-blanco/
URL:https://sortiesjazznights.com/events/ralph-alphonso-steven-lee-rachel-camila-en-blanco/
END:VEVENT
END:VCALENDAR