BEGIN:VCALENDAR
VERSION:2.0
PRODID:-//eventon.com NONSGML v1.0//EN
CALSCALE:GREGORIAN
METHOD:PUBLISH
BEGIN:VEVENT
UID:69ed492e44f93
DTSTAMP:20260425T230726Z
DTSTART:20260428T193000Z
DTEND:20260428T235900Z
LOCATION:La Brassée 2522 Beaubien E<br>
SUMMARY:Ron Ledoux Gilbert Joanis
DESCRIPTION:Ron Ledoux Gilbert Joanis\nhttps://sortiesjazznights.com/events
 /ron-ledoux-gilbert-joanis-3/
URL:https://sortiesjazznights.com/events/ron-ledoux-gilbert-joanis-3/
END:VEVENT
END:VCALENDAR