BEGIN:VCALENDAR
VERSION:2.0
PRODID:-//eventon.com NONSGML v1.0//EN
CALSCALE:GREGORIAN
METHOD:PUBLISH
BEGIN:VEVENT
UID:69ed46d5c1384
DTSTAMP:20260425T225725Z
DTSTART:20260426T103000Z
DTEND:20260426T235900Z
LOCATION:Lakeshore Unitarian Universalist Congregation 5065 Sherbrooke W 514-637-6974
SUMMARY:Kate Wyatt Adrian Vedady
DESCRIPTION:Kate Wyatt Adrian Vedady\nhttps://sortiesjazznights.com/events/
 kate-wyatt-adrian-vedady-2/
URL:https://sortiesjazznights.com/events/kate-wyatt-adrian-vedady-2/
END:VEVENT
END:VCALENDAR