BEGIN:VCALENDAR
VERSION:2.0
PRODID:-//eventon.com NONSGML v1.0//EN
CALSCALE:GREGORIAN
METHOD:PUBLISH
BEGIN:VEVENT
UID:69ed4957dd655
DTSTAMP:20260425T230807Z
DTSTART:20260426T193000Z
DTEND:20260426T235900Z
LOCATION:Le Cabaret Jazz L'Entracte 1112 Ste-Catherine O
SUMMARY:Festival Prélude - L'Entracte Big Band • Kevin Dean and Friends • Mystery Guest
DESCRIPTION:Festival Prélude - L'Entracte Big Band • Kevin Dean and Frie
 nds • Mystery Guest\nhttps://sortiesjazznights.com/events/festival-prelud
 e-lentracte-big-band-kevin-dean-and-friends-mystery-guest/
URL:https://sortiesjazznights.com/events/festival-prelude-lentracte-big-band-kevin-dean-and-friends-mystery-guest/
END:VEVENT
END:VCALENDAR