BEGIN:VCALENDAR
VERSION:2.0
PRODID:-//eventon.com NONSGML v1.0//EN
CALSCALE:GREGORIAN
METHOD:PUBLISH
BEGIN:VEVENT
UID:69ed48f9c90f1
DTSTAMP:20260425T230633Z
DTSTART:20260425T193000Z
DTEND:20260425T235900Z
LOCATION:Le Cabaret Jazz L'Entracte 1112 Ste-Catherine O
SUMMARY:Festival Prélude - Sarah Rossy • Maude Fortier Quartet • Sam Lechasseur
DESCRIPTION:Festival Prélude - Sarah Rossy • Maude Fortier Quartet • S
 am Lechasseur\nhttps://sortiesjazznights.com/events/festival-prelude-sarah-
 rossy-maude-fortier-quartet-sam-lechasseur/
URL:https://sortiesjazznights.com/events/festival-prelude-sarah-rossy-maude-fortier-quartet-sam-lechasseur/
END:VEVENT
END:VCALENDAR