BEGIN:VCALENDAR
VERSION:2.0
PRODID:-//eventon.com NONSGML v1.0//EN
CALSCALE:GREGORIAN
METHOD:PUBLISH
BEGIN:VEVENT
UID:69ed46bfd9c4d
DTSTAMP:20260425T225703Z
DTSTART:20260429T170000Z
DTEND:20260429T235900Z
LOCATION:Pub West Shefford 1562 Mont-Royal E/438-386-1110
SUMMARY:Paralime - Daniel Baillargeon Mathieu Deschenaux Martin Blouin
DESCRIPTION:Paralime - Daniel Baillargeon Mathieu Deschenaux Martin Blouin\
 nhttps://sortiesjazznights.com/events/paralime-daniel-baillargeon-mathieu-d
 eschenaux-martin-blouin-copy/
URL:https://sortiesjazznights.com/events/paralime-daniel-baillargeon-mathieu-deschenaux-martin-blouin-copy/
END:VEVENT
END:VCALENDAR