BEGIN:VCALENDAR
VERSION:2.0
PRODID:-//eventon.com NONSGML v1.0//EN
CALSCALE:GREGORIAN
METHOD:PUBLISH
BEGIN:VEVENT
UID:69ed4bbf39fc4
DTSTAMP:20260425T231823Z
DTSTART:20260430T173000Z
DTEND:20260430T235900Z
LOCATION:aramusique @ Théâtre Alphonse-Desjardins 25 Allée de la Création Repentigny 450-589-9198 877-589-9198
SUMMARY:Hommage à Michel Legrand - Sonia Johnson et Lorraine Desmarais Trio (Aramusique)
DESCRIPTION:Hommage à Michel Legrand - Sonia Johnson et Lorraine Desmarais
  Trio (Aramusique)\nhttps://sortiesjazznights.com/events/hommage-a-michel-l
 egrand-sonia-johnson-et-lorraine-desmarais-trio-aramusique/
URL:https://sortiesjazznights.com/events/hommage-a-michel-legrand-sonia-johnson-et-lorraine-desmarais-trio-aramusique/
END:VEVENT
END:VCALENDAR