BEGIN:VCALENDAR
VERSION:2.0
PRODID:-//eventon.com NONSGML v1.0//EN
CALSCALE:GREGORIAN
METHOD:PUBLISH
BEGIN:VEVENT
UID:69ed472dc66b0
DTSTAMP:20260425T225853Z
DTSTART:20260426T230000Z
DTEND:20260427T035900Z
LOCATION:Dièse Onze Jazz Resto 4115A St-Denis 514-223-3543
SUMMARY:Daniel Thouin Trio +21h
DESCRIPTION:Daniel Thouin Trio +21h\nhttps://sortiesjazznights.com/events/d
 aniel-thouin-trio-21h-4/
URL:https://sortiesjazznights.com/events/daniel-thouin-trio-21h-4/
END:VEVENT
END:VCALENDAR