BEGIN:VCALENDAR
VERSION:2.0
PRODID:-//eventon.com NONSGML v1.0//EN
CALSCALE:GREGORIAN
METHOD:PUBLISH
BEGIN:VEVENT
UID:69ed48b825660
DTSTAMP:20260425T230528Z
DTSTART:20260425T190000Z
DTEND:20260425T235900Z
LOCATION:Dièse Onze Jazz Resto 4115A St-Denis 514-223-3543
SUMMARY:Yannick Rieu 7tet - In The Spirit of the Jazz Messengers +21h30
DESCRIPTION:Yannick Rieu 7tet - In The Spirit of the Jazz Messengers +21h30
 \nhttps://sortiesjazznights.com/events/yannick-rieu-7tet-in-the-spirit-of-t
 he-jazz-messengers-21h30-2/
URL:https://sortiesjazznights.com/events/yannick-rieu-7tet-in-the-spirit-of-the-jazz-messengers-21h30-2/
END:VEVENT
END:VCALENDAR