BEGIN:VCALENDAR
VERSION:2.0
PRODID:-//eventon.com NONSGML v1.0//EN
CALSCALE:GREGORIAN
METHOD:PUBLISH
BEGIN:VEVENT
UID:69ed4b082b3ec
DTSTAMP:20260425T231520Z
DTSTART:20260426T210000Z
DTEND:20260426T235900Z
LOCATION:Bootlegger\,  l'Authenthique 3481 Boul. St-Laurent / 438-383-2226
SUMMARY:Jeff Moseley Trio
DESCRIPTION:Jeff Moseley Trio\nhttps://sortiesjazznights.com/events/jeff-mo
 seley-trio-12/
URL:https://sortiesjazznights.com/events/jeff-moseley-trio-12/
END:VEVENT
END:VCALENDAR