BEGIN:VCALENDAR
VERSION:2.0
PRODID:-//eventon.com NONSGML v1.0//EN
CALSCALE:GREGORIAN
METHOD:PUBLISH
BEGIN:VEVENT
UID:69ed4ac60cd89
DTSTAMP:20260425T231414Z
DTSTART:20260429T200000Z
DTEND:20260429T235900Z
LOCATION:Bootlegger\,  l'Authenthique 3481 Boul. St-Laurent / 438-383-2226
SUMMARY:Alex Lefaivre Trio
DESCRIPTION:Alex Lefaivre Trio\nhttps://sortiesjazznights.com/events/alex-l
 efaivre-trio-32/
URL:https://sortiesjazznights.com/events/alex-lefaivre-trio-32/
END:VEVENT
END:VCALENDAR