BEGIN:VCALENDAR
VERSION:2.0
PRODID:-//eventon.com NONSGML v1.0//EN
CALSCALE:GREGORIAN
METHOD:PUBLISH
BEGIN:VEVENT
UID:69ed4b42efa78
DTSTAMP:20260425T231618Z
DTSTART:20260429T200000Z
DTEND:20260429T235900Z
LOCATION:Lion d'Or 1676 Ontario E<br>514-598-0709
SUMMARY:Valérie Lacombe - State of Garden and Shadow (2026) concert de lancement
DESCRIPTION:Valérie Lacombe - State of Garden and Shadow (2026) concert de
  lancement\nhttps://sortiesjazznights.com/events/journee-internationale-du-
 jazz-2026-valerie-lacombe-state-of-garden-and-shadow/
URL:https://sortiesjazznights.com/events/journee-internationale-du-jazz-2026-valerie-lacombe-state-of-garden-and-shadow/
END:VEVENT
END:VCALENDAR