BEGIN:VCALENDAR
VERSION:2.0
PRODID:-//eventon.com NONSGML v1.0//EN
CALSCALE:GREGORIAN
METHOD:PUBLISH
BEGIN:VEVENT
UID:69ed4bc9c2bb4
DTSTAMP:20260425T231833Z
DTSTART:20260428T220000Z
DTEND:20260429T035900Z
LOCATION:Université McGill - Salle Tanna Schulich 527 Sherbrooke O / 514-398-4547
SUMMARY:Sarah Leroux Matthew O'Halloran Daniel Marmier Mason Jefferey-Off Ryan Bennett
DESCRIPTION:Sarah Leroux Matthew O'Halloran Daniel Marmier Mason Jefferey-O
 ff Ryan Bennett\nhttps://sortiesjazznights.com/events/sarah-leroux-4tet-2/
URL:https://sortiesjazznights.com/events/sarah-leroux-4tet-2/
END:VEVENT
END:VCALENDAR